BEGIN:VCALENDAR
VERSION:2.0
PRODID:-//Knox County Community Garden &amp; Growers Alliance - ECPv6.15.20//NONSGML v1.0//EN
CALSCALE:GREGORIAN
METHOD:PUBLISH
X-WR-CALNAME:Knox County Community Garden &amp; Growers Alliance
X-ORIGINAL-URL:https://knoxgardenalliance.org
X-WR-CALDESC:Events for Knox County Community Garden &amp; Growers Alliance
REFRESH-INTERVAL;VALUE=DURATION:PT1H
X-Robots-Tag:noindex
X-PUBLISHED-TTL:PT1H
BEGIN:VTIMEZONE
TZID:America/New_York
BEGIN:DAYLIGHT
TZOFFSETFROM:-0500
TZOFFSETTO:-0400
TZNAME:EDT
DTSTART:20240310T070000
END:DAYLIGHT
BEGIN:STANDARD
TZOFFSETFROM:-0400
TZOFFSETTO:-0500
TZNAME:EST
DTSTART:20241103T060000
END:STANDARD
BEGIN:DAYLIGHT
TZOFFSETFROM:-0500
TZOFFSETTO:-0400
TZNAME:EDT
DTSTART:20250309T070000
END:DAYLIGHT
BEGIN:STANDARD
TZOFFSETFROM:-0400
TZOFFSETTO:-0500
TZNAME:EST
DTSTART:20251102T060000
END:STANDARD
BEGIN:DAYLIGHT
TZOFFSETFROM:-0500
TZOFFSETTO:-0400
TZNAME:EDT
DTSTART:20260308T070000
END:DAYLIGHT
BEGIN:STANDARD
TZOFFSETFROM:-0400
TZOFFSETTO:-0500
TZNAME:EST
DTSTART:20261101T060000
END:STANDARD
END:VTIMEZONE
BEGIN:VEVENT
DTSTART;TZID=America/New_York:20250606T170000
DTEND;TZID=America/New_York:20250606T190000
DTSTAMP:20260421T160034
CREATED:20250529T211621Z
LAST-MODIFIED:20250716T202609Z
UID:1835-1749229200-1749236400@knoxgardenalliance.org
SUMMARY:Garden Art Gala 2025
DESCRIPTION:THE DETAILS: Beardsley’s annual First Friday Garden Art Gala is an exciting free event that aims to foster creativity and strengthen community bonds through the celebration of art\, music\, and enjoyable experiences on the farm. Our mission is to honor both artistic expression and the spirit of community. This event is FREE and open to all. \nSPECIAL GUESTS: This year we’re teaming up with Knox Pride  to do just that! The event lines up with Pride month\, and we couldn’t be more proud to work alongside our friends at the KPC. \nREFRESHMENTS: Complimentary drinks and light snacks will be available to enhance the festivities. We’ll have garden inspired mocktails! And popsicles and snackies! \nWHAT TO WEAR: We want you to wear whatever you’re comfortable in! But if you’re feeling it\, come dressed in your finest overalls or fancy farm attire\, whatever that means to you. \nARTISTS: If you would like to participate as a visual or performing artist\, please fill out an application here and we will get back to you soon! Application cut off date is on May 15th.
URL:https://knoxgardenalliance.org/event/garden-art-gala-2025/
CATEGORIES:Community
ATTACH;FMTTYPE=image/png:https://knoxgardenalliance.org/wp-content/uploads/2025/05/Art-Gala-25-Posts-Instagram-Post-45.png
END:VEVENT
END:VCALENDAR