BEGIN:VCALENDAR
VERSION:2.0
PRODID:-//Knox County Community Garden &amp; Growers Alliance - ECPv6.15.20//NONSGML v1.0//EN
CALSCALE:GREGORIAN
METHOD:PUBLISH
X-WR-CALNAME:Knox County Community Garden &amp; Growers Alliance
X-ORIGINAL-URL:https://knoxgardenalliance.org
X-WR-CALDESC:Events for Knox County Community Garden &amp; Growers Alliance
REFRESH-INTERVAL;VALUE=DURATION:PT1H
X-Robots-Tag:noindex
X-PUBLISHED-TTL:PT1H
BEGIN:VTIMEZONE
TZID:America/New_York
BEGIN:DAYLIGHT
TZOFFSETFROM:-0500
TZOFFSETTO:-0400
TZNAME:EDT
DTSTART:20240310T070000
END:DAYLIGHT
BEGIN:STANDARD
TZOFFSETFROM:-0400
TZOFFSETTO:-0500
TZNAME:EST
DTSTART:20241103T060000
END:STANDARD
BEGIN:DAYLIGHT
TZOFFSETFROM:-0500
TZOFFSETTO:-0400
TZNAME:EDT
DTSTART:20250309T070000
END:DAYLIGHT
BEGIN:STANDARD
TZOFFSETFROM:-0400
TZOFFSETTO:-0500
TZNAME:EST
DTSTART:20251102T060000
END:STANDARD
BEGIN:DAYLIGHT
TZOFFSETFROM:-0500
TZOFFSETTO:-0400
TZNAME:EDT
DTSTART:20260308T070000
END:DAYLIGHT
BEGIN:STANDARD
TZOFFSETFROM:-0400
TZOFFSETTO:-0500
TZNAME:EST
DTSTART:20261101T060000
END:STANDARD
END:VTIMEZONE
BEGIN:VEVENT
DTSTART;TZID=America/New_York:20250712T093000
DTEND;TZID=America/New_York:20250712T113000
DTSTAMP:20260424T083943
CREATED:20250706T002415Z
LAST-MODIFIED:20250706T002415Z
UID:1931-1752312600-1752319800@knoxgardenalliance.org
SUMMARY:FREE Garden Class: Diseases & Pests for Summer Veggies
DESCRIPTION:Calling all new and seasoned gardeners! The Knox County Master Gardeners invite you to a free\, hands-on class designed to help you tackle common garden challenges. \n🪴 Topic: Diseases & Pests — What to Watch For and How to Manage Them📅 Date: Saturday\, July 12\, 2025🕤 Time: 9:30 AM – 11:30 AM📍 Location: Payne Avenue Missionary Baptist Church2714 Martin Luther King Blvd\, Knoxville\, TN \nLearn research-based strategies in a one-hour classroom session\, followed by hands-on time in the garden identifying real-life issues and discussing integrated pest and disease management solutions. \n☕ Light refreshments provided🎟️ Raffle at the end of class🪑 Space is limited to the first 25 people who register! \n📧 Registration is required: Email classroom@knoxcountymastergardener.org to reserve your spot today! \nDon’t miss this opportunity to grow your knowledge and your garden! 🌽🌼
URL:https://knoxgardenalliance.org/event/free-garden-class-diseases-pests-for-summer-veggies/
CATEGORIES:Education
ATTACH;FMTTYPE=image/jpeg:https://knoxgardenalliance.org/wp-content/uploads/2025/07/payne-avenue-pest-meeting.jpg
END:VEVENT
END:VCALENDAR