BEGIN:VCALENDAR
VERSION:2.0
PRODID:-//Knox County Community Garden &amp; Growers Alliance - ECPv6.15.20//NONSGML v1.0//EN
CALSCALE:GREGORIAN
METHOD:PUBLISH
X-ORIGINAL-URL:https://knoxgardenalliance.org
X-WR-CALDESC:Events for Knox County Community Garden &amp; Growers Alliance
REFRESH-INTERVAL;VALUE=DURATION:PT1H
X-Robots-Tag:noindex
X-PUBLISHED-TTL:PT1H
BEGIN:VTIMEZONE
TZID:America/New_York
BEGIN:DAYLIGHT
TZOFFSETFROM:-0500
TZOFFSETTO:-0400
TZNAME:EDT
DTSTART:20240310T070000
END:DAYLIGHT
BEGIN:STANDARD
TZOFFSETFROM:-0400
TZOFFSETTO:-0500
TZNAME:EST
DTSTART:20241103T060000
END:STANDARD
BEGIN:DAYLIGHT
TZOFFSETFROM:-0500
TZOFFSETTO:-0400
TZNAME:EDT
DTSTART:20250309T070000
END:DAYLIGHT
BEGIN:STANDARD
TZOFFSETFROM:-0400
TZOFFSETTO:-0500
TZNAME:EST
DTSTART:20251102T060000
END:STANDARD
BEGIN:DAYLIGHT
TZOFFSETFROM:-0500
TZOFFSETTO:-0400
TZNAME:EDT
DTSTART:20260308T070000
END:DAYLIGHT
BEGIN:STANDARD
TZOFFSETFROM:-0400
TZOFFSETTO:-0500
TZNAME:EST
DTSTART:20261101T060000
END:STANDARD
END:VTIMEZONE
BEGIN:VEVENT
DTSTART;TZID=America/New_York:20250706T130000
DTEND;TZID=America/New_York:20250706T160000
DTSTAMP:20260421T170411
CREATED:20250705T231309Z
LAST-MODIFIED:20250705T231606Z
UID:1891-1751806800-1751817600@knoxgardenalliance.org
SUMMARY:Eastside Sunday Market
DESCRIPTION:Join us every Sunday from 1–4 PM at Dr. Walter Hardy Memorial Park (2020 Martin Luther King Jr. Avenue) for the Eastside Sunday Market — your weekly destination for fresh food\, local vendors\, and community connection! \n🛒 Shop local produce\, handmade goods\, and more🥕 SNAP accepted + Double Up Food Bucks (up to $20/day)👧🏾 Free kids’ activities every 4th Sunday💵 $5 in Produce Bucks on 4th Sundays🎶 Enjoy live performances and community programs like Drums Up\, Guns Down \n🗓️ The market runs every Sunday from July 6th to October 19th\, 2025 — come by and bring the whole family! \n💻 Vendor spots are still open and rolling — apply today at: www.eastsidesundaymarket.org \nPowered by community. Grown in East Knoxville.
URL:https://knoxgardenalliance.org/event/eastside-sunday-market/
LOCATION:Dr. Walter Hardy Memorial Park\, 2020 Martin Luther King Jr. Avenue\, Knoxville\, TN\, 37915\, United States
CATEGORIES:Community
ATTACH;FMTTYPE=image/jpeg:https://knoxgardenalliance.org/wp-content/uploads/2025/07/image0-1.jpeg
END:VEVENT
BEGIN:VEVENT
DTSTART;TZID=America/New_York:20250708T090000
DTEND;TZID=America/New_York:20250708T110000
DTSTAMP:20260421T170411
CREATED:20250706T003446Z
LAST-MODIFIED:20250716T202414Z
UID:1934-1751965200-1751972400@knoxgardenalliance.org
SUMMARY:Pride Center Garden Club
DESCRIPTION:Every Tuesday & Thursday from 9:00–11:00 AM\, come get your hands in the soil and grow with us at the Pride Center Garden Club! \n✨ Ran\, our dedicated gardener and recent UT Master Gardener Program graduate\, will be in the garden sharing tips\, techniques\, and a wealth of knowledge. Whether you’re brand new or a seasoned grower\, there’s always something to learn — and a great community to be part of. \n📍 Where: The Pride Center📅 When: Tuesdays & Thursdays⏰ Time: 9:00 AM – 11:00 AM \nCome help out\, learn something new\, and connect with community in the garden. All are welcome! 🌈🌱
URL:https://knoxgardenalliance.org/event/pride-center-garden-club/
CATEGORIES:Community,Education
ATTACH;FMTTYPE=image/jpeg:https://knoxgardenalliance.org/wp-content/uploads/2025/07/image0-2.jpeg
END:VEVENT
BEGIN:VEVENT
DTSTART;TZID=America/New_York:20250710T090000
DTEND;TZID=America/New_York:20250710T110000
DTSTAMP:20260421T170411
CREATED:20250706T003533Z
LAST-MODIFIED:20250716T202408Z
UID:1937-1752138000-1752145200@knoxgardenalliance.org
SUMMARY:Pride Center Garden Club
DESCRIPTION:Every Tuesday & Thursday from 9:00–11:00 AM\, come get your hands in the soil and grow with us at the Pride Center Garden Club! \n✨ Ran\, our dedicated gardener and recent UT Master Gardener Program graduate\, will be in the garden sharing tips\, techniques\, and a wealth of knowledge. Whether you’re brand new or a seasoned grower\, there’s always something to learn — and a great community to be part of. \n📍 Where: The Pride Center📅 When: Tuesdays & Thursdays⏰ Time: 9:00 AM – 11:00 AM \nCome help out\, learn something new\, and connect with community in the garden. All are welcome! 🌈🌱
URL:https://knoxgardenalliance.org/event/pride-center-garden-club-2/
CATEGORIES:Community,Education
ATTACH;FMTTYPE=image/jpeg:https://knoxgardenalliance.org/wp-content/uploads/2025/07/image0-2.jpeg
END:VEVENT
BEGIN:VEVENT
DTSTART;TZID=America/New_York:20250713T130000
DTEND;TZID=America/New_York:20250713T160000
DTSTAMP:20260421T170411
CREATED:20250705T231824Z
LAST-MODIFIED:20250705T232051Z
UID:1897-1752411600-1752422400@knoxgardenalliance.org
SUMMARY:Eastside Sunday Market
DESCRIPTION:Join us every Sunday from 1–4 PM at Dr. Walter Hardy Memorial Park (2020 Martin Luther King Jr. Avenue) for the Eastside Sunday Market — your weekly destination for fresh food\, local vendors\, and community connection! \n🛒 Shop local produce\, handmade goods\, and more🥕 SNAP accepted + Double Up Food Bucks (up to $20/day)👧🏾 Free kids’ activities every 4th Sunday💵 $5 in Produce Bucks on 4th Sundays🎶 Enjoy live performances and community programs like Drums Up\, Guns Down \n🗓️ The market runs every Sunday from July 6th to October 19th\, 2025 — come by and bring the whole family! \n💻 Vendor spots are still open and rolling — apply today at: www.eastsidesundaymarket.org \nPowered by community. Grown in East Knoxville.
URL:https://knoxgardenalliance.org/event/eastside-sunday-market-2/
LOCATION:Dr. Walter Hardy Memorial Park\, 2020 Martin Luther King Jr. Avenue\, Knoxville\, TN\, 37915\, United States
CATEGORIES:Community
ATTACH;FMTTYPE=image/jpeg:https://knoxgardenalliance.org/wp-content/uploads/2025/07/image0-1.jpeg
END:VEVENT
BEGIN:VEVENT
DTSTART;TZID=America/New_York:20250715T090000
DTEND;TZID=America/New_York:20250715T110000
DTSTAMP:20260421T170411
CREATED:20250706T003634Z
LAST-MODIFIED:20250716T202401Z
UID:1939-1752570000-1752577200@knoxgardenalliance.org
SUMMARY:Pride Center Garden Club
DESCRIPTION:Every Tuesday & Thursday from 9:00–11:00 AM\, come get your hands in the soil and grow with us at the Pride Center Garden Club! \n✨ Ran\, our dedicated gardener and recent UT Master Gardener Program graduate\, will be in the garden sharing tips\, techniques\, and a wealth of knowledge. Whether you’re brand new or a seasoned grower\, there’s always something to learn — and a great community to be part of. \n📍 Where: The Pride Center📅 When: Tuesdays & Thursdays⏰ Time: 9:00 AM – 11:00 AM \nCome help out\, learn something new\, and connect with community in the garden. All are welcome! 🌈🌱
URL:https://knoxgardenalliance.org/event/pride-center-garden-club-3/
CATEGORIES:Community,Education
ATTACH;FMTTYPE=image/jpeg:https://knoxgardenalliance.org/wp-content/uploads/2025/07/image0-2.jpeg
END:VEVENT
BEGIN:VEVENT
DTSTART;TZID=America/New_York:20250716T083000
DTEND;TZID=America/New_York:20250716T100000
DTSTAMP:20260421T170411
CREATED:20250705T230123Z
LAST-MODIFIED:20250706T005003Z
UID:1887-1752654600-1752660000@knoxgardenalliance.org
SUMMARY:July Meeting Announcement: Food Policy Council Accessibility Panel
DESCRIPTION:We’re excited to invite you to a very special Knoxville-Knox County Food Policy Council Meeting on Wednesday\, July 16th from 8:30–10:00 AM at United Way of Greater Knoxville (1301 Hannah Ave\, Knoxville TN 37921). \nThis month’s meeting will feature an Accessibility Panel with expert speakers sharing practical strategies to make our local food systems more inclusive and accessible to all. Learn how to strengthen your programs and policies through equity-focused approaches. \nFeatured Panelists: \n\n\nLara Whitfield-Garfinkle – Community Engagement and Deaf Blind Program Coordinator\, Knoxville Center of the Deaf \n\n\nMonique Johnson – Founder and CEO\, Learn Play Sign \n\n\nCarly Pearson – ADA Coordinator\, Knox County \n\n\nStephanie Brewer Cook – ADA Coordinator\, City of Knoxville \n\n\n🧏‍♀️ ASL interpretation will be provided.🌐 Open to the public – please share widely!📝 Have accessibility needs? Register now so we can accommodate you: \nQuestions? Contact us directly — and we look forward to seeing you there!
URL:https://knoxgardenalliance.org/event/food-policy-council-accessibility-panel/
LOCATION:United Way of Greater Knoxville\, 1301 Hannah Ave\, Knoxville\, TN\, 37921\, United States
CATEGORIES:Community,Education
ATTACH;FMTTYPE=image/jpeg:https://knoxgardenalliance.org/wp-content/uploads/2025/07/food-policy-event.jpg
END:VEVENT
BEGIN:VEVENT
DTSTART;TZID=America/New_York:20250717T090000
DTEND;TZID=America/New_York:20250717T110000
DTSTAMP:20260421T170411
CREATED:20250706T003739Z
LAST-MODIFIED:20250716T202355Z
UID:1941-1752742800-1752750000@knoxgardenalliance.org
SUMMARY:Pride Center Garden Club
DESCRIPTION:Every Tuesday & Thursday from 9:00–11:00 AM\, come get your hands in the soil and grow with us at the Pride Center Garden Club! \n✨ Ran\, our dedicated gardener and recent UT Master Gardener Program graduate\, will be in the garden sharing tips\, techniques\, and a wealth of knowledge. Whether you’re brand new or a seasoned grower\, there’s always something to learn — and a great community to be part of. \n📍 Where: The Pride Center📅 When: Tuesdays & Thursdays⏰ Time: 9:00 AM – 11:00 AM \nCome help out\, learn something new\, and connect with community in the garden. All are welcome! 🌈🌱
URL:https://knoxgardenalliance.org/event/pride-center-garden-club-4/
CATEGORIES:Community,Education
ATTACH;FMTTYPE=image/jpeg:https://knoxgardenalliance.org/wp-content/uploads/2025/07/image0-2.jpeg
END:VEVENT
BEGIN:VEVENT
DTSTART;TZID=America/New_York:20250720T130000
DTEND;TZID=America/New_York:20250720T160000
DTSTAMP:20260421T170411
CREATED:20250705T231914Z
LAST-MODIFIED:20250705T232147Z
UID:1899-1753016400-1753027200@knoxgardenalliance.org
SUMMARY:Eastside Sunday Market
DESCRIPTION:Join us every Sunday from 1–4 PM at Dr. Walter Hardy Memorial Park (2020 Martin Luther King Jr. Avenue) for the Eastside Sunday Market — your weekly destination for fresh food\, local vendors\, and community connection! \n🛒 Shop local produce\, handmade goods\, and more🥕 SNAP accepted + Double Up Food Bucks (up to $20/day)👧🏾 Free kids’ activities every 4th Sunday💵 $5 in Produce Bucks on 4th Sundays🎶 Enjoy live performances and community programs like Drums Up\, Guns Down \n🗓️ The market runs every Sunday from July 6th to October 19th\, 2025 — come by and bring the whole family! \n💻 Vendor spots are still open and rolling — apply today at: www.eastsidesundaymarket.org \nPowered by community. Grown in East Knoxville.
URL:https://knoxgardenalliance.org/event/eastside-sunday-market-3/
LOCATION:Dr. Walter Hardy Memorial Park\, 2020 Martin Luther King Jr. Avenue\, Knoxville\, TN\, 37915\, United States
CATEGORIES:Community
ATTACH;FMTTYPE=image/jpeg:https://knoxgardenalliance.org/wp-content/uploads/2025/07/image0-1.jpeg
END:VEVENT
BEGIN:VEVENT
DTSTART;TZID=America/New_York:20250722T090000
DTEND;TZID=America/New_York:20250722T110000
DTSTAMP:20260421T170411
CREATED:20250706T003814Z
LAST-MODIFIED:20250716T202348Z
UID:1943-1753174800-1753182000@knoxgardenalliance.org
SUMMARY:Pride Center Garden Club
DESCRIPTION:Every Tuesday & Thursday from 9:00–11:00 AM\, come get your hands in the soil and grow with us at the Pride Center Garden Club! \n✨ Ran\, our dedicated gardener and recent UT Master Gardener Program graduate\, will be in the garden sharing tips\, techniques\, and a wealth of knowledge. Whether you’re brand new or a seasoned grower\, there’s always something to learn — and a great community to be part of. \n📍 Where: The Pride Center📅 When: Tuesdays & Thursdays⏰ Time: 9:00 AM – 11:00 AM \nCome help out\, learn something new\, and connect with community in the garden. All are welcome! 🌈🌱
URL:https://knoxgardenalliance.org/event/pride-center-garden-club-5/
CATEGORIES:Community,Education
ATTACH;FMTTYPE=image/jpeg:https://knoxgardenalliance.org/wp-content/uploads/2025/07/image0-2.jpeg
END:VEVENT
BEGIN:VEVENT
DTSTART;TZID=America/New_York:20250724T090000
DTEND;TZID=America/New_York:20250724T110000
DTSTAMP:20260421T170411
CREATED:20250706T003928Z
LAST-MODIFIED:20250716T202337Z
UID:1945-1753347600-1753354800@knoxgardenalliance.org
SUMMARY:Pride Center Garden Club
DESCRIPTION:Every Tuesday & Thursday from 9:00–11:00 AM\, come get your hands in the soil and grow with us at the Pride Center Garden Club! \n✨ Ran\, our dedicated gardener and recent UT Master Gardener Program graduate\, will be in the garden sharing tips\, techniques\, and a wealth of knowledge. Whether you’re brand new or a seasoned grower\, there’s always something to learn — and a great community to be part of. \n📍 Where: The Pride Center📅 When: Tuesdays & Thursdays⏰ Time: 9:00 AM – 11:00 AM \nCome help out\, learn something new\, and connect with community in the garden. All are welcome! 🌈🌱
URL:https://knoxgardenalliance.org/event/pride-center-garden-club-6/
CATEGORIES:Community,Education
ATTACH;FMTTYPE=image/jpeg:https://knoxgardenalliance.org/wp-content/uploads/2025/07/image0-2.jpeg
END:VEVENT
BEGIN:VEVENT
DTSTART;TZID=America/New_York:20250727T130000
DTEND;TZID=America/New_York:20250727T160000
DTSTAMP:20260421T170411
CREATED:20250705T231957Z
LAST-MODIFIED:20250705T231957Z
UID:1901-1753621200-1753632000@knoxgardenalliance.org
SUMMARY:Eastside Sunday Market
DESCRIPTION:Join us every Sunday from 1–4 PM at Dr. Walter Hardy Memorial Park (2020 Martin Luther King Jr. Avenue) for the Eastside Sunday Market — your weekly destination for fresh food\, local vendors\, and community connection! \n🛒 Shop local produce\, handmade goods\, and more🥕 SNAP accepted + Double Up Food Bucks (up to $20/day)👧🏾 Free kids’ activities every 4th Sunday💵 $5 in Produce Bucks on 4th Sundays🎶 Enjoy live performances and community programs like Drums Up\, Guns Down \n🗓️ The market runs every Sunday from July 6th to October 19th\, 2025 — come by and bring the whole family! \n💻 Vendor spots are still open and rolling — apply today at: www.eastsidesundaymarket.org \nPowered by community. Grown in East Knoxville.
URL:https://knoxgardenalliance.org/event/eastside-sunday-market-4/
LOCATION:Dr. Walter Hardy Memorial Park\, 2020 Martin Luther King Jr. Avenue\, Knoxville\, TN\, 37915\, United States
CATEGORIES:Community
ATTACH;FMTTYPE=image/jpeg:https://knoxgardenalliance.org/wp-content/uploads/2025/07/image0-1.jpeg
END:VEVENT
BEGIN:VEVENT
DTSTART;TZID=America/New_York:20250729T090000
DTEND;TZID=America/New_York:20250729T110000
DTSTAMP:20260421T170411
CREATED:20250706T003958Z
LAST-MODIFIED:20250716T202327Z
UID:1947-1753779600-1753786800@knoxgardenalliance.org
SUMMARY:Pride Center Garden Club
DESCRIPTION:Every Tuesday & Thursday from 9:00–11:00 AM\, come get your hands in the soil and grow with us at the Pride Center Garden Club! \n✨ Ran\, our dedicated gardener and recent UT Master Gardener Program graduate\, will be in the garden sharing tips\, techniques\, and a wealth of knowledge. Whether you’re brand new or a seasoned grower\, there’s always something to learn — and a great community to be part of. \n📍 Where: The Pride Center📅 When: Tuesdays & Thursdays⏰ Time: 9:00 AM – 11:00 AM \nCome help out\, learn something new\, and connect with community in the garden. All are welcome! 🌈🌱
URL:https://knoxgardenalliance.org/event/pride-center-garden-club-7/
CATEGORIES:Community,Education
ATTACH;FMTTYPE=image/jpeg:https://knoxgardenalliance.org/wp-content/uploads/2025/07/image0-2.jpeg
END:VEVENT
BEGIN:VEVENT
DTSTART;TZID=America/New_York:20250731T090000
DTEND;TZID=America/New_York:20250731T110000
DTSTAMP:20260421T170411
CREATED:20250706T004036Z
LAST-MODIFIED:20250716T202318Z
UID:1949-1753952400-1753959600@knoxgardenalliance.org
SUMMARY:Pride Center Garden Club
DESCRIPTION:Every Tuesday & Thursday from 9:00–11:00 AM\, come get your hands in the soil and grow with us at the Pride Center Garden Club! \n✨ Ran\, our dedicated gardener and recent UT Master Gardener Program graduate\, will be in the garden sharing tips\, techniques\, and a wealth of knowledge. Whether you’re brand new or a seasoned grower\, there’s always something to learn — and a great community to be part of. \n📍 Where: The Pride Center📅 When: Tuesdays & Thursdays⏰ Time: 9:00 AM – 11:00 AM \nCome help out\, learn something new\, and connect with community in the garden. All are welcome! 🌈🌱
URL:https://knoxgardenalliance.org/event/pride-center-garden-club-8/
CATEGORIES:Community,Education
ATTACH;FMTTYPE=image/jpeg:https://knoxgardenalliance.org/wp-content/uploads/2025/07/image0-2.jpeg
END:VEVENT
END:VCALENDAR