BEGIN:VCALENDAR
VERSION:2.0
PRODID:-//Knox County Community Garden &amp; Growers Alliance - ECPv6.15.20//NONSGML v1.0//EN
CALSCALE:GREGORIAN
METHOD:PUBLISH
X-WR-CALNAME:Knox County Community Garden &amp; Growers Alliance
X-ORIGINAL-URL:https://knoxgardenalliance.org
X-WR-CALDESC:Events for Knox County Community Garden &amp; Growers Alliance
REFRESH-INTERVAL;VALUE=DURATION:PT1H
X-Robots-Tag:noindex
X-PUBLISHED-TTL:PT1H
BEGIN:VTIMEZONE
TZID:America/New_York
BEGIN:DAYLIGHT
TZOFFSETFROM:-0500
TZOFFSETTO:-0400
TZNAME:EDT
DTSTART:20240310T070000
END:DAYLIGHT
BEGIN:STANDARD
TZOFFSETFROM:-0400
TZOFFSETTO:-0500
TZNAME:EST
DTSTART:20241103T060000
END:STANDARD
BEGIN:DAYLIGHT
TZOFFSETFROM:-0500
TZOFFSETTO:-0400
TZNAME:EDT
DTSTART:20250309T070000
END:DAYLIGHT
BEGIN:STANDARD
TZOFFSETFROM:-0400
TZOFFSETTO:-0500
TZNAME:EST
DTSTART:20251102T060000
END:STANDARD
BEGIN:DAYLIGHT
TZOFFSETFROM:-0500
TZOFFSETTO:-0400
TZNAME:EDT
DTSTART:20260308T070000
END:DAYLIGHT
BEGIN:STANDARD
TZOFFSETFROM:-0400
TZOFFSETTO:-0500
TZNAME:EST
DTSTART:20261101T060000
END:STANDARD
END:VTIMEZONE
BEGIN:VEVENT
DTSTART;TZID=America/New_York:20250803T130000
DTEND;TZID=America/New_York:20250803T160000
DTSTAMP:20260424T080644
CREATED:20250705T233012Z
LAST-MODIFIED:20250705T233012Z
UID:1903-1754226000-1754236800@knoxgardenalliance.org
SUMMARY:Eastside Sunday Market
DESCRIPTION:Join us every Sunday from 1–4 PM at Dr. Walter Hardy Memorial Park (2020 Martin Luther King Jr. Avenue) for the Eastside Sunday Market — your weekly destination for fresh food\, local vendors\, and community connection! \n🛒 Shop local produce\, handmade goods\, and more🥕 SNAP accepted + Double Up Food Bucks (up to $20/day)👧🏾 Free kids’ activities every 4th Sunday💵 $5 in Produce Bucks on 4th Sundays🎶 Enjoy live performances and community programs like Drums Up\, Guns Down \n🗓️ The market runs every Sunday from July 6th to October 19th\, 2025 — come by and bring the whole family! \n💻 Vendor spots are still open and rolling — apply today at: www.eastsidesundaymarket.org \nPowered by community. Grown in East Knoxville.
URL:https://knoxgardenalliance.org/event/eastside-sunday-market-10/
LOCATION:Dr. Walter Hardy Memorial Park\, 2020 Martin Luther King Jr. Avenue\, Knoxville\, TN\, 37915\, United States
CATEGORIES:Community
ATTACH;FMTTYPE=image/jpeg:https://knoxgardenalliance.org/wp-content/uploads/2025/07/image0-1.jpeg
END:VEVENT
BEGIN:VEVENT
DTSTART;TZID=America/New_York:20250805T090000
DTEND;TZID=America/New_York:20250805T110000
DTSTAMP:20260424T080644
CREATED:20250706T004129Z
LAST-MODIFIED:20250716T202312Z
UID:1951-1754384400-1754391600@knoxgardenalliance.org
SUMMARY:Pride Center Garden Club
DESCRIPTION:Every Tuesday & Thursday from 9:00–11:00 AM\, come get your hands in the soil and grow with us at the Pride Center Garden Club! \n✨ Ran\, our dedicated gardener and recent UT Master Gardener Program graduate\, will be in the garden sharing tips\, techniques\, and a wealth of knowledge. Whether you’re brand new or a seasoned grower\, there’s always something to learn — and a great community to be part of. \n📍 Where: The Pride Center📅 When: Tuesdays & Thursdays⏰ Time: 9:00 AM – 11:00 AM \nCome help out\, learn something new\, and connect with community in the garden. All are welcome! 🌈🌱
URL:https://knoxgardenalliance.org/event/pride-center-garden-club-9/
CATEGORIES:Community,Education
ATTACH;FMTTYPE=image/jpeg:https://knoxgardenalliance.org/wp-content/uploads/2025/07/image0-2.jpeg
END:VEVENT
BEGIN:VEVENT
DTSTART;TZID=America/New_York:20250807T090000
DTEND;TZID=America/New_York:20250807T110000
DTSTAMP:20260424T080644
CREATED:20250706T004156Z
LAST-MODIFIED:20250716T202306Z
UID:1953-1754557200-1754564400@knoxgardenalliance.org
SUMMARY:Pride Center Garden Club
DESCRIPTION:Every Tuesday & Thursday from 9:00–11:00 AM\, come get your hands in the soil and grow with us at the Pride Center Garden Club! \n✨ Ran\, our dedicated gardener and recent UT Master Gardener Program graduate\, will be in the garden sharing tips\, techniques\, and a wealth of knowledge. Whether you’re brand new or a seasoned grower\, there’s always something to learn — and a great community to be part of. \n📍 Where: The Pride Center📅 When: Tuesdays & Thursdays⏰ Time: 9:00 AM – 11:00 AM \nCome help out\, learn something new\, and connect with community in the garden. All are welcome! 🌈🌱
URL:https://knoxgardenalliance.org/event/pride-center-garden-club-10/
CATEGORIES:Community,Education
ATTACH;FMTTYPE=image/jpeg:https://knoxgardenalliance.org/wp-content/uploads/2025/07/image0-2.jpeg
END:VEVENT
BEGIN:VEVENT
DTSTART;TZID=America/New_York:20250810T130000
DTEND;TZID=America/New_York:20250810T160000
DTSTAMP:20260424T080644
CREATED:20250705T232325Z
LAST-MODIFIED:20250705T232433Z
UID:1904-1754830800-1754841600@knoxgardenalliance.org
SUMMARY:Eastside Sunday Market
DESCRIPTION:Join us every Sunday from 1–4 PM at Dr. Walter Hardy Memorial Park (2020 Martin Luther King Jr. Avenue) for the Eastside Sunday Market — your weekly destination for fresh food\, local vendors\, and community connection! \n🛒 Shop local produce\, handmade goods\, and more🥕 SNAP accepted + Double Up Food Bucks (up to $20/day)👧🏾 Free kids’ activities every 4th Sunday💵 $5 in Produce Bucks on 4th Sundays🎶 Enjoy live performances and community programs like Drums Up\, Guns Down \n🗓️ The market runs every Sunday from July 6th to October 19th\, 2025 — come by and bring the whole family! \n💻 Vendor spots are still open and rolling — apply today at: www.eastsidesundaymarket.org \nPowered by community. Grown in East Knoxville.
URL:https://knoxgardenalliance.org/event/eastside-sunday-market-5/
LOCATION:Dr. Walter Hardy Memorial Park\, 2020 Martin Luther King Jr. Avenue\, Knoxville\, TN\, 37915\, United States
CATEGORIES:Community
ATTACH;FMTTYPE=image/jpeg:https://knoxgardenalliance.org/wp-content/uploads/2025/07/image0-1.jpeg
END:VEVENT
BEGIN:VEVENT
DTSTART;TZID=America/New_York:20250812T090000
DTEND;TZID=America/New_York:20250812T110000
DTSTAMP:20260424T080644
CREATED:20250706T004228Z
LAST-MODIFIED:20250716T202009Z
UID:1955-1754989200-1754996400@knoxgardenalliance.org
SUMMARY:Pride Center Garden Club
DESCRIPTION:Every Tuesday & Thursday from 9:00–11:00 AM\, come get your hands in the soil and grow with us at the Pride Center Garden Club! \n✨ Ran\, our dedicated gardener and recent UT Master Gardener Program graduate\, will be in the garden sharing tips\, techniques\, and a wealth of knowledge. Whether you’re brand new or a seasoned grower\, there’s always something to learn — and a great community to be part of. \n📍 Where: The Pride Center📅 When: Tuesdays & Thursdays⏰ Time: 9:00 AM – 11:00 AM \nCome help out\, learn something new\, and connect with community in the garden. All are welcome! 🌈🌱
URL:https://knoxgardenalliance.org/event/pride-center-garden-club-11/
CATEGORIES:Community,Education,Volunteer
ATTACH;FMTTYPE=image/jpeg:https://knoxgardenalliance.org/wp-content/uploads/2025/07/image0-2.jpeg
END:VEVENT
BEGIN:VEVENT
DTSTART;TZID=America/New_York:20250814T090000
DTEND;TZID=America/New_York:20250814T110000
DTSTAMP:20260424T080644
CREATED:20250706T004311Z
LAST-MODIFIED:20250716T202258Z
UID:1957-1755162000-1755169200@knoxgardenalliance.org
SUMMARY:Pride Center Garden Club
DESCRIPTION:Every Tuesday & Thursday from 9:00–11:00 AM\, come get your hands in the soil and grow with us at the Pride Center Garden Club! \n✨ Ran\, our dedicated gardener and recent UT Master Gardener Program graduate\, will be in the garden sharing tips\, techniques\, and a wealth of knowledge. Whether you’re brand new or a seasoned grower\, there’s always something to learn — and a great community to be part of. \n📍 Where: The Pride Center📅 When: Tuesdays & Thursdays⏰ Time: 9:00 AM – 11:00 AM \nCome help out\, learn something new\, and connect with community in the garden. All are welcome! 🌈🌱
URL:https://knoxgardenalliance.org/event/pride-center-garden-club-12/
CATEGORIES:Community,Education
ATTACH;FMTTYPE=image/jpeg:https://knoxgardenalliance.org/wp-content/uploads/2025/07/image0-2.jpeg
END:VEVENT
BEGIN:VEVENT
DTSTART;TZID=America/New_York:20250816T090000
DTEND;TZID=America/New_York:20250816T120000
DTSTAMP:20260424T080644
CREATED:20250718T220955Z
LAST-MODIFIED:20250729T221332Z
UID:2033-1755334800-1755345600@knoxgardenalliance.org
SUMMARY:Celebrate Legacy Parks' 20th Anniversary with One Big Day!
DESCRIPTION:8/16/25 – One Big Day!\nCelebrate Legacy Parks’ 20th Anniversary with One Big Day! \nKeep Knoxville Beautiful is partnering with Legacy Parks to celebrate their 20th anniversary with a volunteer day at the newly opened French Broad Veterans Memorial Park on Saturday\, August 16th from 9am-12pm. We will be building a nature trail and planting a native grass and wildflower meadow. \nsign ups: https://www.keepknoxvillebeautiful.org/upcoming-events/one-big-day-2025
URL:https://knoxgardenalliance.org/event/celebrate-legacy-parks-20th-anniversary-with-one-big-day/
LOCATION:French Broad Veterans Memorial Park\, 2302 E Governor John Sevier Hwy\, Knoxville\, 37914\, United States
CATEGORIES:Community
ATTACH;FMTTYPE=image/png:https://knoxgardenalliance.org/wp-content/uploads/2025/07/kbb-event.png
END:VEVENT
BEGIN:VEVENT
DTSTART;TZID=America/New_York:20250817T130000
DTEND;TZID=America/New_York:20250817T160000
DTSTAMP:20260424T080644
CREATED:20250705T232510Z
LAST-MODIFIED:20250705T232510Z
UID:1906-1755435600-1755446400@knoxgardenalliance.org
SUMMARY:Eastside Sunday Market
DESCRIPTION:Join us every Sunday from 1–4 PM at Dr. Walter Hardy Memorial Park (2020 Martin Luther King Jr. Avenue) for the Eastside Sunday Market — your weekly destination for fresh food\, local vendors\, and community connection! \n🛒 Shop local produce\, handmade goods\, and more🥕 SNAP accepted + Double Up Food Bucks (up to $20/day)👧🏾 Free kids’ activities every 4th Sunday💵 $5 in Produce Bucks on 4th Sundays🎶 Enjoy live performances and community programs like Drums Up\, Guns Down \n🗓️ The market runs every Sunday from July 6th to October 19th\, 2025 — come by and bring the whole family! \n💻 Vendor spots are still open and rolling — apply today at: www.eastsidesundaymarket.org \nPowered by community. Grown in East Knoxville.
URL:https://knoxgardenalliance.org/event/eastside-sunday-market-6/
LOCATION:Dr. Walter Hardy Memorial Park\, 2020 Martin Luther King Jr. Avenue\, Knoxville\, TN\, 37915\, United States
CATEGORIES:Community
ATTACH;FMTTYPE=image/jpeg:https://knoxgardenalliance.org/wp-content/uploads/2025/07/image0-1.jpeg
END:VEVENT
BEGIN:VEVENT
DTSTART;TZID=America/New_York:20250818T173000
DTEND;TZID=America/New_York:20250818T193000
DTSTAMP:20260424T080644
CREATED:20250705T225413Z
LAST-MODIFIED:20250706T002542Z
UID:1883-1755538200-1755545400@knoxgardenalliance.org
SUMMARY:Sprout Your Smart Yard Workshop
DESCRIPTION:Get ready to grow smarter\, not harder! Join the Tennessee Smart Yards team and Knox County Master Gardeners for a hands-on\, in-depth workshop designed to help you create a more sustainable\, environmentally-friendly yard. \nEvent: Sprout Your Smart Yard\nDate: Monday\, August 18\nTime: 5:30 PM onwards\nLocation: Knoxville Botanical Gardens & Arboretum \nThis workshop is perfect for homeowners interested in becoming Tennessee Smart Yard certified. Spaces are limited to just 20 participants to ensure personalized guidance and support. \nRegistration Fee: $15 — includes: \n\nA free soil test\nTwo native plants to take home\nA downspout diverter\nA Smart Yard sign upon completion of the program\n\nReserve your spot today:\nknoxgarden.org/events/sprout-your-smart-yard \nQuestions? Contact us at:\nsmartyards@knoxcountymastergardener.org \nGrow green. Grow smart. Let us help you Sprout Your Smart Yard!
URL:https://knoxgardenalliance.org/event/sprout-your-smart-yard-workshop/
CATEGORIES:Community,Education
ATTACH;FMTTYPE=image/jpeg:https://knoxgardenalliance.org/wp-content/uploads/2025/07/image0.jpeg
END:VEVENT
BEGIN:VEVENT
DTSTART;TZID=America/New_York:20250819T090000
DTEND;TZID=America/New_York:20250819T110000
DTSTAMP:20260424T080644
CREATED:20250706T004402Z
LAST-MODIFIED:20250716T202251Z
UID:1959-1755594000-1755601200@knoxgardenalliance.org
SUMMARY:Pride Center Garden Club
DESCRIPTION:Every Tuesday & Thursday from 9:00–11:00 AM\, come get your hands in the soil and grow with us at the Pride Center Garden Club! \n✨ Ran\, our dedicated gardener and recent UT Master Gardener Program graduate\, will be in the garden sharing tips\, techniques\, and a wealth of knowledge. Whether you’re brand new or a seasoned grower\, there’s always something to learn — and a great community to be part of. \n📍 Where: The Pride Center📅 When: Tuesdays & Thursdays⏰ Time: 9:00 AM – 11:00 AM \nCome help out\, learn something new\, and connect with community in the garden. All are welcome! 🌈🌱
URL:https://knoxgardenalliance.org/event/pride-center-garden-club-13/
CATEGORIES:Community,Education
ATTACH;FMTTYPE=image/jpeg:https://knoxgardenalliance.org/wp-content/uploads/2025/07/image0-2.jpeg
END:VEVENT
BEGIN:VEVENT
DTSTART;TZID=America/New_York:20250821T090000
DTEND;TZID=America/New_York:20250821T110000
DTSTAMP:20260424T080644
CREATED:20250706T004431Z
LAST-MODIFIED:20250716T202220Z
UID:1961-1755766800-1755774000@knoxgardenalliance.org
SUMMARY:Pride Center Garden Club
DESCRIPTION:Every Tuesday & Thursday from 9:00–11:00 AM\, come get your hands in the soil and grow with us at the Pride Center Garden Club! \n✨ Ran\, our dedicated gardener and recent UT Master Gardener Program graduate\, will be in the garden sharing tips\, techniques\, and a wealth of knowledge. Whether you’re brand new or a seasoned grower\, there’s always something to learn — and a great community to be part of. \n📍 Where: The Pride Center📅 When: Tuesdays & Thursdays⏰ Time: 9:00 AM – 11:00 AM \nCome help out\, learn something new\, and connect with community in the garden. All are welcome! 🌈🌱
URL:https://knoxgardenalliance.org/event/pride-center-garden-club-14/
CATEGORIES:Community,Education
ATTACH;FMTTYPE=image/jpeg:https://knoxgardenalliance.org/wp-content/uploads/2025/07/image0-2.jpeg
END:VEVENT
BEGIN:VEVENT
DTSTART;TZID=America/New_York:20250824T130000
DTEND;TZID=America/New_York:20250824T160000
DTSTAMP:20260424T080644
CREATED:20250705T232559Z
LAST-MODIFIED:20250705T232559Z
UID:1908-1756040400-1756051200@knoxgardenalliance.org
SUMMARY:Eastside Sunday Market
DESCRIPTION:Join us every Sunday from 1–4 PM at Dr. Walter Hardy Memorial Park (2020 Martin Luther King Jr. Avenue) for the Eastside Sunday Market — your weekly destination for fresh food\, local vendors\, and community connection! \n🛒 Shop local produce\, handmade goods\, and more🥕 SNAP accepted + Double Up Food Bucks (up to $20/day)👧🏾 Free kids’ activities every 4th Sunday💵 $5 in Produce Bucks on 4th Sundays🎶 Enjoy live performances and community programs like Drums Up\, Guns Down \n🗓️ The market runs every Sunday from July 6th to October 19th\, 2025 — come by and bring the whole family! \n💻 Vendor spots are still open and rolling — apply today at: www.eastsidesundaymarket.org \nPowered by community. Grown in East Knoxville.
URL:https://knoxgardenalliance.org/event/eastside-sunday-market-7/
LOCATION:Dr. Walter Hardy Memorial Park\, 2020 Martin Luther King Jr. Avenue\, Knoxville\, TN\, 37915\, United States
CATEGORIES:Community
ATTACH;FMTTYPE=image/jpeg:https://knoxgardenalliance.org/wp-content/uploads/2025/07/image0-1.jpeg
END:VEVENT
BEGIN:VEVENT
DTSTART;TZID=America/New_York:20250826T090000
DTEND;TZID=America/New_York:20250826T110000
DTSTAMP:20260424T080644
CREATED:20250706T004516Z
LAST-MODIFIED:20250716T202213Z
UID:1963-1756198800-1756206000@knoxgardenalliance.org
SUMMARY:Pride Center Garden Club
DESCRIPTION:Every Tuesday & Thursday from 9:00–11:00 AM\, come get your hands in the soil and grow with us at the Pride Center Garden Club! \n✨ Ran\, our dedicated gardener and recent UT Master Gardener Program graduate\, will be in the garden sharing tips\, techniques\, and a wealth of knowledge. Whether you’re brand new or a seasoned grower\, there’s always something to learn — and a great community to be part of. \n📍 Where: The Pride Center📅 When: Tuesdays & Thursdays⏰ Time: 9:00 AM – 11:00 AM \nCome help out\, learn something new\, and connect with community in the garden. All are welcome! 🌈🌱
URL:https://knoxgardenalliance.org/event/pride-center-garden-club-15/
CATEGORIES:Community,Education
ATTACH;FMTTYPE=image/jpeg:https://knoxgardenalliance.org/wp-content/uploads/2025/07/image0-2.jpeg
END:VEVENT
BEGIN:VEVENT
DTSTART;TZID=America/New_York:20250828T090000
DTEND;TZID=America/New_York:20250828T110000
DTSTAMP:20260424T080644
CREATED:20250706T004543Z
LAST-MODIFIED:20250716T202206Z
UID:1965-1756371600-1756378800@knoxgardenalliance.org
SUMMARY:Pride Center Garden Club
DESCRIPTION:Every Tuesday & Thursday from 9:00–11:00 AM\, come get your hands in the soil and grow with us at the Pride Center Garden Club! \n✨ Ran\, our dedicated gardener and recent UT Master Gardener Program graduate\, will be in the garden sharing tips\, techniques\, and a wealth of knowledge. Whether you’re brand new or a seasoned grower\, there’s always something to learn — and a great community to be part of. \n📍 Where: The Pride Center📅 When: Tuesdays & Thursdays⏰ Time: 9:00 AM – 11:00 AM \nCome help out\, learn something new\, and connect with community in the garden. All are welcome! 🌈🌱
URL:https://knoxgardenalliance.org/event/pride-center-garden-club-16/
CATEGORIES:Community,Education
ATTACH;FMTTYPE=image/jpeg:https://knoxgardenalliance.org/wp-content/uploads/2025/07/image0-2.jpeg
END:VEVENT
BEGIN:VEVENT
DTSTART;TZID=America/New_York:20250831T130000
DTEND;TZID=America/New_York:20250831T160000
DTSTAMP:20260424T080644
CREATED:20250705T232651Z
LAST-MODIFIED:20250705T232714Z
UID:1910-1756645200-1756656000@knoxgardenalliance.org
SUMMARY:Eastside Sunday Market
DESCRIPTION:Join us every Sunday from 1–4 PM at Dr. Walter Hardy Memorial Park (2020 Martin Luther King Jr. Avenue) for the Eastside Sunday Market — your weekly destination for fresh food\, local vendors\, and community connection! \n🛒 Shop local produce\, handmade goods\, and more🥕 SNAP accepted + Double Up Food Bucks (up to $20/day)👧🏾 Free kids’ activities every 4th Sunday💵 $5 in Produce Bucks on 4th Sundays🎶 Enjoy live performances and community programs like Drums Up\, Guns Down \n🗓️ The market runs every Sunday from July 6th to October 19th\, 2025 — come by and bring the whole family! \n💻 Vendor spots are still open and rolling — apply today at: www.eastsidesundaymarket.org \nPowered by community. Grown in East Knoxville.
URL:https://knoxgardenalliance.org/event/eastside-sunday-market-8/
LOCATION:Dr. Walter Hardy Memorial Park\, 2020 Martin Luther King Jr. Avenue\, Knoxville\, TN\, 37915\, United States
CATEGORIES:Community
ATTACH;FMTTYPE=image/jpeg:https://knoxgardenalliance.org/wp-content/uploads/2025/07/image0-1.jpeg
END:VEVENT
END:VCALENDAR