BEGIN:VCALENDAR
VERSION:2.0
PRODID:-//Knox County Community Garden &amp; Growers Alliance - ECPv6.15.20//NONSGML v1.0//EN
CALSCALE:GREGORIAN
METHOD:PUBLISH
X-WR-CALNAME:Knox County Community Garden &amp; Growers Alliance
X-ORIGINAL-URL:https://knoxgardenalliance.org
X-WR-CALDESC:Events for Knox County Community Garden &amp; Growers Alliance
REFRESH-INTERVAL;VALUE=DURATION:PT1H
X-Robots-Tag:noindex
X-PUBLISHED-TTL:PT1H
BEGIN:VTIMEZONE
TZID:America/New_York
BEGIN:DAYLIGHT
TZOFFSETFROM:-0500
TZOFFSETTO:-0400
TZNAME:EDT
DTSTART:20240310T070000
END:DAYLIGHT
BEGIN:STANDARD
TZOFFSETFROM:-0400
TZOFFSETTO:-0500
TZNAME:EST
DTSTART:20241103T060000
END:STANDARD
BEGIN:DAYLIGHT
TZOFFSETFROM:-0500
TZOFFSETTO:-0400
TZNAME:EDT
DTSTART:20250309T070000
END:DAYLIGHT
BEGIN:STANDARD
TZOFFSETFROM:-0400
TZOFFSETTO:-0500
TZNAME:EST
DTSTART:20251102T060000
END:STANDARD
BEGIN:DAYLIGHT
TZOFFSETFROM:-0500
TZOFFSETTO:-0400
TZNAME:EDT
DTSTART:20260308T070000
END:DAYLIGHT
BEGIN:STANDARD
TZOFFSETFROM:-0400
TZOFFSETTO:-0500
TZNAME:EST
DTSTART:20261101T060000
END:STANDARD
END:VTIMEZONE
BEGIN:VEVENT
DTSTART;TZID=America/New_York:20251004T120000
DTEND;TZID=America/New_York:20251004T180000
DTSTAMP:20260424T105323
CREATED:20250925T211647Z
LAST-MODIFIED:20250925T211647Z
UID:2290-1759579200-1759600800@knoxgardenalliance.org
SUMMARY:Knox Pride Fest 2025
DESCRIPTION:Knox Pride Fest 2025 \nMark your calendars! Knox Pride Fest is happening on 10/4\, and we can’t wait to celebrate with you! 🏳️‍🌈 \nThis event is more than just a party—it’s a chance to come together\, uplift one another\, and strengthen our community. Your presence matters. When we show up as our authentic selves\, we create a space where everyone feels seen\, supported\, and celebrated. \nJoin us for a day of connection\, love\, and pride. Let’s make Knox Pride Fest 2025 a powerful reminder of what we can achieve when we come together as a community!
URL:https://knoxgardenalliance.org/event/knox-pride-fest-2025/
LOCATION:Worlds Fair Park\, 800 World's Fair Park Dr SW\, Knoxville\, TN\, 37902\, United States
CATEGORIES:Community
ATTACH;FMTTYPE=image/jpeg:https://knoxgardenalliance.org/wp-content/uploads/2025/09/Knox-Pride-Fest-2025.jpeg
END:VEVENT
END:VCALENDAR