BEGIN:VCALENDAR
VERSION:2.0
PRODID:-//Knox County Community Garden &amp; Growers Alliance - ECPv6.15.20//NONSGML v1.0//EN
CALSCALE:GREGORIAN
METHOD:PUBLISH
X-WR-CALNAME:Knox County Community Garden &amp; Growers Alliance
X-ORIGINAL-URL:https://knoxgardenalliance.org
X-WR-CALDESC:Events for Knox County Community Garden &amp; Growers Alliance
REFRESH-INTERVAL;VALUE=DURATION:PT1H
X-Robots-Tag:noindex
X-PUBLISHED-TTL:PT1H
BEGIN:VTIMEZONE
TZID:America/New_York
BEGIN:DAYLIGHT
TZOFFSETFROM:-0500
TZOFFSETTO:-0400
TZNAME:EDT
DTSTART:20250309T070000
END:DAYLIGHT
BEGIN:STANDARD
TZOFFSETFROM:-0400
TZOFFSETTO:-0500
TZNAME:EST
DTSTART:20251102T060000
END:STANDARD
BEGIN:DAYLIGHT
TZOFFSETFROM:-0500
TZOFFSETTO:-0400
TZNAME:EDT
DTSTART:20260308T070000
END:DAYLIGHT
BEGIN:STANDARD
TZOFFSETFROM:-0400
TZOFFSETTO:-0500
TZNAME:EST
DTSTART:20261101T060000
END:STANDARD
BEGIN:DAYLIGHT
TZOFFSETFROM:-0500
TZOFFSETTO:-0400
TZNAME:EDT
DTSTART:20270314T070000
END:DAYLIGHT
BEGIN:STANDARD
TZOFFSETFROM:-0400
TZOFFSETTO:-0500
TZNAME:EST
DTSTART:20271107T060000
END:STANDARD
END:VTIMEZONE
BEGIN:VEVENT
DTSTART;TZID=America/New_York:20260130T090000
DTEND;TZID=America/New_York:20260130T140000
DTSTAMP:20260421T144258
CREATED:20260115T010114Z
LAST-MODIFIED:20260115T010858Z
UID:2518-1769763600-1769781600@knoxgardenalliance.org
SUMMARY:KKB's 7th Annual Summit: Rooted in Place
DESCRIPTION:We’re excited to invite you back to Keep Knoxville Beautiful’s Summit: Rooted in Place\, taking place on\nFriday\, January 30\, 2026\n9:00 AM – 2:00 PM\nEast Tennessee History Center \nThis year’s Summit will highlight meaningful placemaking work happening in Knox County and bring in voices from other communities to share inspiring projects and perspectives\, encouraging fresh thinking around long-term sustainability and place-based initiatives. \nWe’d love for you to be part of the conversation again. \n Tickets: $20 (lunch included)\n On sale: Tuesday\, January 6\nWe are pursuing continuing education credits through AIA for architects. Upon approval\, the Summit will be worth 2-3 AIA CEUs \nWant us to get the Summit approved for credits in your profession? Just let us know and we can look into that process!  \n\nCreated to clean-up up our scruffy city before the 1982 World’s Fair\, Keep Knoxville Beautiful has been working hard to keep Knoxville clean\, green\, and more beautiful for almost 50 years. \nAt Keep Knoxville Beautiful\, our mission is to promote litter eradication\, waste reduction\, and beautification efforts in Knox County communities using education\, events\, and volunteer engagement. Just in the last year we reached over 5\,000 students\, documented 18\,136 volunteer hours\, and cleared 113\,781 pounds of litter. We wouldn’t have been able to make it happen without our dedicated volunteers\, invaluable partnerships\, and the drive towards sustainability and involvement from community members like you!
URL:https://knoxgardenalliance.org/event/kkbs-7th-annual-summit-rooted-in-place/
CATEGORIES:Community,Social
ATTACH;FMTTYPE=image/jpeg:https://knoxgardenalliance.org/wp-content/uploads/2026/01/rooted-in-place-event-picture.jpg
END:VEVENT
END:VCALENDAR