BEGIN:VCALENDAR
VERSION:2.0
PRODID:-//Knox County Community Garden &amp; Growers Alliance - ECPv6.15.20//NONSGML v1.0//EN
CALSCALE:GREGORIAN
METHOD:PUBLISH
X-WR-CALNAME:Knox County Community Garden &amp; Growers Alliance
X-ORIGINAL-URL:https://knoxgardenalliance.org
X-WR-CALDESC:Events for Knox County Community Garden &amp; Growers Alliance
REFRESH-INTERVAL;VALUE=DURATION:PT1H
X-Robots-Tag:noindex
X-PUBLISHED-TTL:PT1H
BEGIN:VTIMEZONE
TZID:America/New_York
BEGIN:DAYLIGHT
TZOFFSETFROM:-0500
TZOFFSETTO:-0400
TZNAME:EDT
DTSTART:20220313T070000
END:DAYLIGHT
BEGIN:STANDARD
TZOFFSETFROM:-0400
TZOFFSETTO:-0500
TZNAME:EST
DTSTART:20221106T060000
END:STANDARD
BEGIN:DAYLIGHT
TZOFFSETFROM:-0500
TZOFFSETTO:-0400
TZNAME:EDT
DTSTART:20230312T070000
END:DAYLIGHT
BEGIN:STANDARD
TZOFFSETFROM:-0400
TZOFFSETTO:-0500
TZNAME:EST
DTSTART:20231105T060000
END:STANDARD
BEGIN:DAYLIGHT
TZOFFSETFROM:-0500
TZOFFSETTO:-0400
TZNAME:EDT
DTSTART:20240310T070000
END:DAYLIGHT
BEGIN:STANDARD
TZOFFSETFROM:-0400
TZOFFSETTO:-0500
TZNAME:EST
DTSTART:20241103T060000
END:STANDARD
BEGIN:DAYLIGHT
TZOFFSETFROM:-0500
TZOFFSETTO:-0400
TZNAME:EDT
DTSTART:20250309T070000
END:DAYLIGHT
BEGIN:STANDARD
TZOFFSETFROM:-0400
TZOFFSETTO:-0500
TZNAME:EST
DTSTART:20251102T060000
END:STANDARD
END:VTIMEZONE
BEGIN:VEVENT
DTSTART;TZID=America/New_York:20240801T110000
DTEND;TZID=America/New_York:20240801T140000
DTSTAMP:20260421T202753
CREATED:20240725T155016Z
LAST-MODIFIED:20240725T155621Z
UID:1283-1722510000-1722520800@knoxgardenalliance.org
SUMMARY:TEAM (Teaming to Educate for Agricultural Mastery) Monthly Meeting
DESCRIPTION:
URL:https://knoxgardenalliance.org/event/team-teaming-to-educate-for-agricultural-mastery-monthly-meeting/
LOCATION:United Way\, 1301 Hannah Ave\, Knoxville\, TN\, 37921\, United States
CATEGORIES:Education
ATTACH;FMTTYPE=image/jpeg:https://knoxgardenalliance.org/wp-content/uploads/2023/03/knox-garden-alliance-group-working-02.jpg
END:VEVENT
BEGIN:VEVENT
DTSTART;TZID=America/New_York:20240720T100000
DTEND;TZID=America/New_York:20240720T140000
DTSTAMP:20260421T202753
CREATED:20240725T153840Z
LAST-MODIFIED:20250716T202620Z
UID:1279-1721469600-1721484000@knoxgardenalliance.org
SUMMARY:Knox Pride Farmers Market
DESCRIPTION:Materials requested: containers\, potting mix\, peatmoss/pearlite\, tomato\nplants\, cages\, coco liner\, 24in containers\, fertilizer\, strawberry and\nblueberry plants\, turnip seeds\, beet seeds & spinach seeds. (Drop off at\nthe center 4028 Chapman Hwy. Tues-Thurs. 11a-4p and Fri.-Sat. 12p-6p)
URL:https://knoxgardenalliance.org/event/knox-pride-farmers-market/
LOCATION:South Press Coffee\, 3615 Chapman Hwy\, Knoxville\, TN\, 37920\, United States
CATEGORIES:Community,Education
ATTACH;FMTTYPE=image/png:https://knoxgardenalliance.org/wp-content/uploads/2024/07/FarmerUpdatedJuly_2024.png
END:VEVENT
BEGIN:VEVENT
DTSTART;TZID=America/New_York:20240629T123000
DTEND;TZID=America/New_York:20240629T163000
DTSTAMP:20260421T202753
CREATED:20240501T033454Z
LAST-MODIFIED:20240501T033454Z
UID:1009-1719664200-1719678600@knoxgardenalliance.org
SUMMARY:EXPLORATIONS IN FORAGED & KUDZU BASKETRY
DESCRIPTION:Make art in collaboration with the living world! In this class we will be building off of the traditional form of ribbed basketry as a jumping-off point for a wild material exploration in basketry. Students will learn how to harvest living materials for baskets\, develop a working knowledge of ribbed basket forms\, and practice making art in dialogue with the landscape. \nOpen to all skill levels. Moderate hand dexterity is needed for weaving and students should come dressed for an outdoor class. \nAll supplies are included. \nAges 16 and up are welcome. Participants under 18 years old must have an accompanying adult.
URL:https://knoxgardenalliance.org/event/explorations-in-foraged-kudzu-basketry-2/
LOCATION:Whistlepig Farms\, Luttrell\, 37779\, United States
CATEGORIES:Education
ATTACH;FMTTYPE=image/jpeg:https://knoxgardenalliance.org/wp-content/uploads/2024/04/kudzu_baskets_students.jpg
END:VEVENT
BEGIN:VEVENT
DTSTART;TZID=America/New_York:20240601T133000
DTEND;TZID=America/New_York:20240601T173000
DTSTAMP:20260421T202753
CREATED:20240501T033335Z
LAST-MODIFIED:20240501T033523Z
UID:1006-1717248600-1717263000@knoxgardenalliance.org
SUMMARY:EXPLORATIONS IN FORAGED & KUDZU BASKETRY
DESCRIPTION:Make art in collaboration with the living world! In this class we will be building off of the traditional form of ribbed basketry as a jumping-off point for a wild material exploration in basketry. Students will learn how to harvest living materials for baskets\, develop a working knowledge of ribbed basket forms\, and practice making art in dialogue with the landscape. \nOpen to all skill levels. Moderate hand dexterity is needed for weaving and students should come dressed for an outdoor class. \nAll supplies are included. \nAges 16 and up are welcome. Participants under 18 years old must have an accompanying adult.
URL:https://knoxgardenalliance.org/event/explorations-in-foraged-kudzu-basketry/
LOCATION:Museum of Infinite Outcomes\, 2345 Dodson Avenue\, Knoxville\, TN\, 37917\, United States
CATEGORIES:Education
ATTACH;FMTTYPE=image/jpeg:https://knoxgardenalliance.org/wp-content/uploads/2024/04/kudzu_baskets_students.jpg
END:VEVENT
BEGIN:VEVENT
DTSTART;TZID=America/New_York:20240518T150000
DTEND;TZID=America/New_York:20240518T183000
DTSTAMP:20260421T202753
CREATED:20240501T032812Z
LAST-MODIFIED:20240501T033050Z
UID:1003-1716044400-1716057000@knoxgardenalliance.org
SUMMARY:Acorn Scouts: Screenprint Your Own Bandana & Oak Stewardship
DESCRIPTION:Join the directors of the Museum of Infinite Outcomes in an exploration of oaks! Through guided hikes\, students will learn of the ecosystem services of these ancient beings\, and what they can do to become stewards of the oaks. Acorn Scarves an equal parts field and craft workshop. After getting to know the oaks\, students will learn how to screenprint their own Acorn Bandana Scarf on organic natural fibers. \nAll supplies are included. \nOpen to ages 14+\, children must be accompanied by an adult. \nThis is a beginner level course\, no previous experience required.
URL:https://knoxgardenalliance.org/event/acorn-scouts-screenprint-your-own-bandana-oak-stewardship-2/
LOCATION:Whistlepig Farms\, Luttrell\, 37779\, United States
CATEGORIES:Education
ATTACH;FMTTYPE=image/jpeg:https://knoxgardenalliance.org/wp-content/uploads/2024/04/MuseumOfInfiniteOutcomes_AcornScarves.jpg
END:VEVENT
BEGIN:VEVENT
DTSTART;TZID=America/New_York:20240511T150000
DTEND;TZID=America/New_York:20240511T180000
DTSTAMP:20260421T202753
CREATED:20240501T032102Z
LAST-MODIFIED:20240501T032102Z
UID:999-1715439600-1715450400@knoxgardenalliance.org
SUMMARY:Acorn Scouts: Screenprint Your Own Bandana & Oak Stewardship
DESCRIPTION:Join the directors of the Museum of Infinite Outcomes in an exploration of oaks! Through guided hikes\, students will learn of the ecosystem services of these ancient beings\, and what they can do to become stewards of the oaks. Acorn Scarves an equal parts field and craft workshop. After getting to know the oaks\, students will learn how to screenprint their own Acorn Bandana Scarf on organic natural fibers. \nAll supplies are included. \nOpen to ages 14+\, children must be accompanied by an adult. \nThis is a beginner level course\, no previous experience required.
URL:https://knoxgardenalliance.org/event/acorn-scouts-screenprint-your-own-bandana-oak-stewardship/
LOCATION:Museum of Infinite Outcomes\, 2345 Dodson Avenue\, Knoxville\, TN\, 37917\, United States
CATEGORIES:Education
ATTACH;FMTTYPE=image/jpeg:https://knoxgardenalliance.org/wp-content/uploads/2024/04/MuseumOfInfiniteOutcomes_AcornScarves.jpg
END:VEVENT
BEGIN:VEVENT
DTSTART;VALUE=DATE:20240510
DTEND;VALUE=DATE:20240511
DTSTAMP:20260421T202753
CREATED:20240501T034113Z
LAST-MODIFIED:20240501T034113Z
UID:1011-1715299200-1715385599@knoxgardenalliance.org
SUMMARY:Battlefield Farm Summer Internship Application Deadline
DESCRIPTION:Event Title: Battlefield Farm Summer Internship\nDuration: 8-week paid internship\, from June 3 to July 26\, 2024\nPay Rate: $15 per hour\nApplication Deadline: May 10\, 2024\nApplicant Requirements: Ages 13-17 years old\, able to work up to 15 hours a week\nProgram Details: The internship will engage 10 local Black youth in an experiential learning program focused on urban farming in East Knoxville\, a recognized food desert.
URL:https://knoxgardenalliance.org/event/battlefield-farm-summer-internship-application-deadline/
LOCATION:BattleField Farms & Gardens\, 3624 Boyds Bridge Pike\, Knoxville\, TN\, 37915\, United States
CATEGORIES:Education,Social
ATTACH;FMTTYPE=image/jpeg:https://knoxgardenalliance.org/wp-content/uploads/2024/04/437695406_897452725471141_1312607722296442911_n.jpg
END:VEVENT
BEGIN:VEVENT
DTSTART;TZID=America/New_York:20240504T180000
DTEND;TZID=America/New_York:20240504T200000
DTSTAMP:20260421T202753
CREATED:20240501T024604Z
LAST-MODIFIED:20240501T034213Z
UID:967-1714845600-1714852800@knoxgardenalliance.org
SUMMARY:Gospel in the Gardens
DESCRIPTION:The UT Gospel Choir will perform at this benefit concert supporting Battlefield Farms\, a local non-profit aimed at tackling food insecurity. The event will include community partnerships to provide accessible fresh food\, and food trucks will be available.
URL:https://knoxgardenalliance.org/event/gospel-in-the-gardens/
LOCATION:Payne Avenue Baptist Church\, 2714 Martin Luther King Jr. Ave.\, Knoxville\, TN\, 37914\, United States
CATEGORIES:Social
ATTACH;FMTTYPE=image/jpeg:https://knoxgardenalliance.org/wp-content/uploads/2024/04/IMG_20240430_124525.jpg
END:VEVENT
BEGIN:VEVENT
DTSTART;TZID=America/New_York:20231028T130000
DTEND;TZID=America/New_York:20231028T170000
DTSTAMP:20260421T202753
CREATED:20231023T174350Z
LAST-MODIFIED:20231023T174350Z
UID:905-1698498000-1698512400@knoxgardenalliance.org
SUMMARY:Beardsley Farm Harvest Festival
DESCRIPTION:Join us for our annual Harvest Festival on Saturday\, October 28th from 1-5 PM! Free admission\, free food\, live music\, games and crafts!\n\nFree food includes meat & vegetarian chili and greens from Real Good Kitchen\, bread from FlourHead Bakery\, cookies from Ham and Goodies\, ice cream from Phoenix Pharmacy\, and kombucha from Frog Juice!\n\nLive music from Zee\, Stevie\, Spooky Oos and 18 Strings Bluegrass!\n\nGames include all kinds of Halloween fall festival games\, face painting\, arts and crafts. Costumes encouraged!
URL:https://knoxgardenalliance.org/event/beardsley-farm-harvest-festival/
LOCATION:TN
CATEGORIES:Education,Social
ATTACH;FMTTYPE=image/png:https://knoxgardenalliance.org/wp-content/uploads/2023/10/Harvest-Fest-Poster-Square-Design.png
END:VEVENT
BEGIN:VEVENT
DTSTART;TZID=America/New_York:20230506T090000
DTEND;TZID=America/New_York:20230506T223000
DTSTAMP:20260421T202753
CREATED:20230314T164143Z
LAST-MODIFIED:20230331T135909Z
UID:604-1683363600-1683412200@knoxgardenalliance.org
SUMMARY:Marble City Gardens Open House
DESCRIPTION:Join us for an Open House event at Marble City Gardens\, where we will spotlight this community garden and showcase the hard work of our members. Come and learn about our community-driven approach to fighting food insecurity and promoting healthy living\, and see firsthand how we are making a difference in the lives of those around us. This is a great opportunity to connect with our community\, learn about our initiatives\, and see the benefits of community gardening in action.
URL:https://knoxgardenalliance.org/event/marble-city-gardens-open-house/
LOCATION:TN
CATEGORIES:Social
ATTACH;FMTTYPE=image/jpeg:https://knoxgardenalliance.org/wp-content/uploads/2023/03/knox-garden-alliance-background-011.jpg
END:VEVENT
BEGIN:VEVENT
DTSTART;TZID=America/New_York:20230421T090000
DTEND;TZID=America/New_York:20230421T100000
DTSTAMP:20260421T202753
CREATED:20230314T154946Z
LAST-MODIFIED:20230331T140251Z
UID:593-1682067600-1682071200@knoxgardenalliance.org
SUMMARY:Class: Bee Keeping 101
DESCRIPTION:Join us for a beginner’s beekeeping class hosted at Battlefield Farms & Gardens\, where you can learn the basics of beekeeping\, from setting up a hive to harvesting honey\, and contribute to the health of our community’s pollinators.
URL:https://knoxgardenalliance.org/event/bee-keeping-101/
LOCATION:TN
CATEGORIES:Education
ATTACH;FMTTYPE=image/jpeg:https://knoxgardenalliance.org/wp-content/uploads/2023/03/IMG-2537.jpg
END:VEVENT
BEGIN:VEVENT
DTSTART;TZID=America/New_York:20230408T080000
DTEND;TZID=America/New_York:20230408T120000
DTSTAMP:20260421T202753
CREATED:20230314T154213Z
LAST-MODIFIED:20230331T135928Z
UID:591-1680940800-1680955200@knoxgardenalliance.org
SUMMARY:Battlefield Farm Volunteer Day
DESCRIPTION:
URL:https://knoxgardenalliance.org/event/battlefield-farm-volunteer-day/
LOCATION:TN
CATEGORIES:Volunteer
ATTACH;FMTTYPE=image/jpeg:https://knoxgardenalliance.org/wp-content/uploads/2023/03/tires.jpg
END:VEVENT
BEGIN:VEVENT
DTSTART;TZID=America/New_York:20230407T100000
DTEND;TZID=America/New_York:20230407T110000
DTSTAMP:20260421T202753
CREATED:20230314T155457Z
LAST-MODIFIED:20230331T140325Z
UID:595-1680861600-1680865200@knoxgardenalliance.org
SUMMARY:Class: Kids Gardening 101
DESCRIPTION:Bring your kids to our gardening class and give them the opportunity to learn about gardening and healthy living in a fun and interactive way. Our classes are designed to teach children the basics of gardening\, from planting seeds to harvesting fresh produce\, and to help them develop a love for nature and healthy living that will last a lifetime.
URL:https://knoxgardenalliance.org/event/class-kids-gardening-101/
LOCATION:TN
CATEGORIES:Education
ATTACH;FMTTYPE=image/jpeg:https://knoxgardenalliance.org/wp-content/uploads/2023/03/knox-garden-alliance-kid-in-garden-01-1.jpg
END:VEVENT
BEGIN:VEVENT
DTSTART;TZID=America/New_York:20230331T100000
DTEND;TZID=America/New_York:20230331T230000
DTSTAMP:20260421T202753
CREATED:20230314T155734Z
LAST-MODIFIED:20230331T140309Z
UID:597-1680256800-1680303600@knoxgardenalliance.org
SUMMARY:Class: Kids Gardening 101
DESCRIPTION:Bring your kids to our gardening class and give them the opportunity to learn about gardening and healthy living in a fun and interactive way. Our classes are designed to teach children the basics of gardening\, from planting seeds to harvesting fresh produce\, and to help them develop a love for nature and healthy living that will last a lifetime.
URL:https://knoxgardenalliance.org/event/class-kids-gardening-101-2/
LOCATION:TN
CATEGORIES:Education
ATTACH;FMTTYPE=image/jpeg:https://knoxgardenalliance.org/wp-content/uploads/2023/03/knox-garden-alliance-kid-in-garden-01-1.jpg
END:VEVENT
END:VCALENDAR